Workbook

Sheet január
B1: … KFT. | G1: 2018 /01. hó
B3: dátum | C3: bizonylat sorszáma | D3: Szöveg | E3: Bevétel | F3: Kiadás | G3: Egyenleg
A4: 1. | G4: =E37+E4-F4 -> 0
A5: 2. | G5: =G4+E5-F5 -> 0
A6: 3. | G6: =G5+E6-F6 -> 0
A7: 4. | G7: =G6+E7-F7 -> 0
A8: 5. | G8: =G7+E8-F8 -> 0
A9: 6. | G9: =G8+E9-F9 -> 0
A10: 7. | G10: =G9+E10-F10 -> 0
A11: 8. | G11: =G10+E11-F11 -> 0
A12: 9. | G12: =G11+E12-F12 -> 0
A13: 10. | G13: =G12+E13-F13 -> 0
A14: 11. | G14: =G13+E14-F14 -> 0
A15: 12. | G15: =G14+E15-F15 -> 0
A16: 13. | G16: =G15+E16-F16 -> 0
... A35: 32. | G35: =G34+E35-F35 -> 0
D36: Forgalom/átvitel: | E36: =SUM(E4:E35) -> 0 | F36: =SUM(F4:F35) -> 0
D37: Kezdőpénzkészlet | E37: 0
D38: Záró pénzkészlet | F38: =SUM(E36-F36+E37) -> 0
D39: Összesen | E39: =SUM(E36:E37) -> 0 | F39: =SUM(F36,F38) -> 0
E43: pénztáros

Sheet február
B1: =január!B1 -> … KFT. | G1: 2018 /02 . hó
B3: dátum | C3: bizonylat sorszáma | D3: Szöveg | E3: Bevétel | F3: Kiadás | G3: Egyenleg
A4: 1. | G4: =január!F38+február!E4-február!F4 -> 0
A5: 2. | G5: =G4+E5-F5 -> 0
A6: 3. | G6: =G5+E6-F6 -> 0
A7: 4. | G7: =G6+E7-F7 -> 0
A8: 5. | G8: =G7+E8-F8 -> 0
A9: 6. | G9: =G8+E9-F9 -> 0
A10: 7. | G10: =G9+E10-F10 -> 0
A11: 8. | G11: =G10+E11-F11 -> 0
A12: 9. | G12: =G11+E12-F12 -> 0
A13: 10. | G13: =G12+E13-F13 -> 0
A14: 11. | G14: =G13+E14-F14 -> 0
A15: 12. | G15: =G14+E15-F15 -> 0
A16: 13. | G16: =G15+E16-F16 -> 0
... A35: 32. | G35: =G34+E35-F35 -> 0
D36: Forgalom/átvitel: | E36: =SUM(E4:E35) -> 0 | F36: =SUM(F4:F35) -> 0
D37: Kezdőpénzkészlet | E37: =január!F38 -> 0
D38: Záró pénzkészlet | F38: =SUM(E36-F36+E37) -> 0
D39: Összesen | E39: =SUM(E36:E37) -> 0 | F39: =SUM(F36,F38) -> 0
E43: pénztáros

Sheet március
B1: =január!B1 -> … KFT. | G1: 2018 /03 . hó
B3: dátum | C3: bizonylat sorszáma | D3: Szöveg | E3: Bevétel | F3: Kiadás | G3: Egyenleg
A4: 1. | G4: =február!F38+március!E4-március!F4 -> 0
A5: 2. | G5: =G4+E5-F5 -> 0
A6: 3. | G6: =G5+E6-F6 -> 0
A7: 4. | G7: =G6+E7-F7 -> 0
A8: 5. | G8: =G7+E8-F8 -> 0
A9: 6. | G9: =G8+E9-F9 -> 0
A10: 7. | G10: =G9+E10-F10 -> 0
A11: 8. | G11: =G10+E11-F11 -> 0
A12: 9. | G12: =G11+E12-F12 -> 0
A13: 10. | G13: =G12+E13-F13 -> 0
A14: 11. | G14: =G13+E14-F14 -> 0
A15: 12. | G15: =G14+E15-F15 -> 0
A16: 13. | G16: =G15+E16-F16 -> 0
... A35: 32. | G35: =G34+E35-F35 -> 0
D36: Forgalom/átvitel: | E36: =SUM(E4:E35) -> 0 | F36: =SUM(F4:F35) -> 0
D37: Kezdőpénzkészlet | E37: =február!F38 -> 0
D38: Záró pénzkészlet | F38: =SUM(E36-F36+E37) -> 0
D39: Összesen | E39: =SUM(E36:E37) -> 0 | F39: =SUM(F36,F38) -> 0
E43: pénztáros

Sheet április
B1: =január!B1 -> … KFT. | G1: 2018 /04. hó
B3: dátum | C3: bizonylat sorszáma | D3: Szöveg | E3: Bevétel | F3: Kiadás | G3: Egyenleg
A4: 1. | G4: =március!F38+április!E4-április!F4 -> 0
A5: 2. | G5: =G4+E5-F5 -> 0
A6: 3. | G6: =G5+E6-F6 -> 0
A7: 4. | G7: =G6+E7-F7 -> 0
A8: 5. | G8: =G7+E8-F8 -> 0
A9: 6. | G9: =G8+E9-F9 -> 0
A10: 7. | G10: =G9+E10-F10 -> 0
A11: 8. | G11: =G10+E11-F11 -> 0
A12: 9. | G12: =G11+E12-F12 -> 0
A13: 10. | G13: =G12+E13-F13 -> 0
A14: 11. | G14: =G13+E14-F14 -> 0
A15: 12. | G15: =G14+E15-F15 -> 0
A16: 13. | G16: =G15+E16-F16 -> 0
... A35: 32. | G35: =G34+E35-F35 -> 0
D36: Forgalom/átvitel: | E36: =SUM(E4:E35) -> 0 | F36: =SUM(F4:F35) -> 0
D37: Kezdőpénzkészlet | E37: =március!F38 -> 0
D38: Záró pénzkészlet | F38: =SUM(E36-F36+E37) -> 0
D39: Összesen | E39: =SUM(E36:E37) -> 0 | F39: =SUM(F36,F38) -> 0
E43: pénztáros

Sheet május
B1: =január!B1 -> … KFT. | G1: 2018 /05. hó
B3: dátum | C3: bizonylat sorszáma | D3: Szöveg | E3: Bevétel | F3: Kiadás | G3: Egyenleg
A4: 1. | G4: =április!F38+május!E4-május!F4 -> 0
A5: 2. | G5: =G4+E5-F5 -> 0
A6: 3. | G6: =G5+E6-F6 -> 0
A7: 4. | G7: =G6+E7-F7 -> 0
A8: 5. | G8: =G7+E8-F8 -> 0
A9: 6. | G9: =G8+E9-F9 -> 0
A10: 7. | G10: =G9+E10-F10 -> 0
A11: 8. | G11: =G10+E11-F11 -> 0
A12: 9. | G12: =G11+E12-F12 -> 0
A13: 10. | G13: =G12+E13-F13 -> 0
A14: 11. | G14: =G13+E14-F14 -> 0
A15: 12. | G15: =G14+E15-F15 -> 0
A16: 13. | G16: =G15+E16-F16 -> 0
... A35: 32. | G35: =G34+E35-F35 -> 0
D36: Forgalom/átvitel: | E36: =SUM(E4:E35) -> 0 | F36: =SUM(F4:F35) -> 0
D37: Kezdőpénzkészlet | E37: =április!F38 -> 0
D38: Záró pénzkészlet | F38: =SUM(E36-F36+E37) -> 0
D39: Összesen | E39: =SUM(E36:E37) -> 0 | F39: =SUM(F36,F38) -> 0
E43: pénztáros

Sheet június
B1: =január!B1 -> … KFT. | G1: 2018 /06. hó
B3: dátum | C3: bizonylat sorszáma | D3: Szöveg | E3: Bevétel | F3: Kiadás | G3: Egyenleg
A4: 1. | G4: =május!F38+június!E4-június!F4 -> 0
A5: 2. | G5: =G4+E5-F5 -> 0
A6: 3. | G6: =G5+E6-F6 -> 0
A7: 4. | G7: =G6+E7-F7 -> 0
A8: 5. | G8: =G7+E8-F8 -> 0
A9: 6. | G9: =G8+E9-F9 -> 0
A10: 7. | G10: =G9+E10-F10 -> 0
A11: 8. | G11: =G10+E11-F11 -> 0
A12: 9. | G12: =G11+E12-F12 -> 0
A13: 10. | G13: =G12+E13-F13 -> 0
A14: 11. | G14: =G13+E14-F14 -> 0
A15: 12. | G15: =G14+E15-F15 -> 0
A16: 13. | G16: =G15+E16-F16 -> 0
... A35: 32. | G35: =G34+E35-F35 -> 0
D36: Forgalom/átvitel: | E36: =SUM(E4:E35) -> 0 | F36: =SUM(F4:F35) -> 0
D37: Kezdőpénzkészlet | E37: =május!F38 -> 0
D38: Záró pénzkészlet | F38: =SUM(E36-F36+E37) -> 0
D39: Összesen | E39: =SUM(E36:E37) -> 0 | F39: =SUM(F36,F38) -> 0
E43: pénztáros

Sheet július
B1: =január!B1 -> … KFT. | G1: 2018 /07 . hó
B3: dátum | C3: bizonylat sorszáma | D3: Szöveg | E3: Bevétel | F3: Kiadás | G3: Egyenleg
A4: 1. | G4: =június!F38+július!E4-július!F4 -> 0
A5: 2. | G5: =G4+E5-F5 -> 0
A6: 3. | G6: =G5+E6-F6 -> 0
A7: 4. | G7: =G6+E7-F7 -> 0
A8: 5. | G8: =G7+E8-F8 -> 0
A9: 6. | G9: =G8+E9-F9 -> 0
A10: 7. | G10: =G9+E10-F10 -> 0
A11: 8. | G11: =G10+E11-F11 -> 0
A12: 9. | G12: =G11+E12-F12 -> 0
A13: 10. | G13: =G12+E13-F13 -> 0
A14: 11. | G14: =G13+E14-F14 -> 0
A15: 12. | G15: =G14+E15-F15 -> 0
A16: 13. | G16: =G15+E16-F16 -> 0
... A35: 32. | G35: =G34+E35-F35 -> 0
D36: Forgalom/átvitel: | E36: =SUM(E4:E35) -> 0 | F36: =SUM(F4:F35) -> 0
D37: Kezdőpénzkészlet | E37: =június!F38 -> 0
D38: Záró pénzkészlet | F38: =SUM(E36-F36+E37) -> 0
D39: Összesen | E39: =SUM(E36:E37) -> 0 | F39: =SUM(F36,F38) -> 0
E43: pénztáros

Sheet augusztus
B1: =január!B1 -> … KFT. | G1: 2018 /08 . hó
B3: dátum | C3: bizonylat sorszáma | D3: Szöveg | E3: Bevétel | F3: Kiadás | G3: Egyenleg
A4: 1. | G4: =július!F38+augusztus!E4-augusztus!F4 -> 0
A5: 2. | G5: =G4+E5-F5 -> 0
A6: 3. | G6: =G5+E6-F6 -> 0
A7: 4. | G7: =G6+E7-F7 -> 0
A8: 5. | G8: =G7+E8-F8 -> 0
A9: 6. | G9: =G8+E9-F9 -> 0
A10: 7. | G10: =G9+E10-F10 -> 0
A11: 8. | G11: =G10+E11-F11 -> 0
A12: 9. | G12: =G11+E12-F12 -> 0
A13: 10. | G13: =G12+E13-F13 -> 0
A14: 11. | G14: =G13+E14-F14 -> 0
A15: 12. | G15: =G14+E15-F15 -> 0
A16: 13. | G16: =G15+E16-F16 -> 0
... A35: 32. | G35: =G34+E35-F35 -> 0
D36: Forgalom/átvitel: | E36: =SUM(E4:E35) -> 0 | F36: =SUM(F4:F35) -> 0
D37: Kezdőpénzkészlet | E37: =július!F38 -> 0
D38: Záró pénzkészlet | F38: =SUM(E36-F36+E37) -> 0
D39: Összesen | E39: =SUM(E36:E37) -> 0 | F39: =SUM(F36,F38) -> 0
E43: pénztáros

Sheet szeptember
B1: =január!B1 -> … KFT. | G1: 2018 /09. hó
B3: dátum | C3: bizonylat sorszáma | D3: Szöveg | E3: Bevétel | F3: Kiadás | G3: Egyenleg
A4: 1. | G4: =augusztus!F38+szeptember!E4+-szeptember!F4 -> 0
A5: 2. | G5: =G4+E5-F5 -> 0
A6: 3. | G6: =G5+E6-F6 -> 0
A7: 4. | G7: =G6+E7-F7 -> 0
A8: 5. | G8: =G7+E8-F8 -> 0
A9: 6. | G9: =G8+E9-F9 -> 0
A10: 7. | G10: =G9+E10-F10 -> 0
A11: 8. | G11: =G10+E11-F11 -> 0
A12: 9. | G12: =G11+E12-F12 -> 0
A13: 10. | G13: =G12+E13-F13 -> 0
A14: 11. | G14: =G13+E14-F14 -> 0
A15: 12. | G15: =G14+E15-F15 -> 0
A16: 13. | G16: =G15+E16-F16 -> 0
... A35: 32. | G35: =G34+E35-F35 -> 0
D36: Forgalom/átvitel: | E36: =SUM(E4:E35) -> 0 | F36: =SUM(F4:F35) -> 0
D37: Kezdőpénzkészlet | E37: =augusztus!F38 -> 0
D38: Záró pénzkészlet | F38: =SUM(E36-F36+E37) -> 0
D39: Összesen | E39: =SUM(E36:E37) -> 0 | F39: =SUM(F36,F38) -> 0
E43: pénztáros

Sheet október
B1: =január!B1 -> … KFT. | G1: 2018 /10. hó
B3: dátum | C3: bizonylat sorszáma | D3: Szöveg | E3: Bevétel | F3: Kiadás | G3: Egyenleg
A4: 1. | G4: =szeptember!F38+október!E4-október!F4 -> 0
A5: 2. | G5: =G4+E5-F5 -> 0
A6: 3. | G6: =G5+E6-F6 -> 0
A7: 4. | G7: =G6+E7-F7 -> 0
A8: 5. | G8: =G7+E8-F8 -> 0
A9: 6. | G9: =G8+E9-F9 -> 0
A10: 7. | G10: =G9+E10-F10 -> 0
A11: 8. | G11: =G10+E11-F11 -> 0
A12: 9. | G12: =G11+E12-F12 -> 0
A13: 10. | G13: =G12+E13-F13 -> 0
A14: 11. | G14: =G13+E14-F14 -> 0
A15: 12. | G15: =G14+E15-F15 -> 0
A16: 13. | G16: =G15+E16-F16 -> 0
... A35: 32. | G35: =G34+E35-F35 -> 0
D36: Forgalom/átvitel: | E36: =SUM(E4:E35) -> 0 | F36: =SUM(F4:F35) -> 0
D37: Kezdőpénzkészlet | E37: =szeptember!F38 -> 0
D38: Záró pénzkészlet | F38: =SUM(E36-F36+E37) -> 0
D39: Összesen | E39: =SUM(E36:E37) -> 0 | F39: =SUM(F36,F38) -> 0
E43: pénztáros

Sheet november
B1: =január!B1 -> … KFT. | G1: 2018 /11 . hó
B3: dátum | C3: bizonylat sorszáma | D3: Szöveg | E3: Bevétel | F3: Kiadás | G3: Egyenleg
A4: 1. | G4: =október!F38+november!E4-november!F4 -> 0
A5: 2. | G5: =G4+E5-F5 -> 0
A6: 3. | G6: =G5+E6-F6 -> 0
A7: 4. | G7: =G6+E7-F7 -> 0
A8: 5. | G8: =G7+E8-F8 -> 0
A9: 6. | G9: =G8+E9-F9 -> 0
A10: 7. | G10: =G9+E10-F10 -> 0
A11: 8. | G11: =G10+E11-F11 -> 0
A12: 9. | G12: =G11+E12-F12 -> 0
A13: 10. | G13: =G12+E13-F13 -> 0
A14: 11. | G14: =G13+E14-F14 -> 0
A15: 12. | G15: =G14+E15-F15 -> 0
A16: 13. | G16: =G15+E16-F16 -> 0
... A35: 32. | G35: =G34+E35-F35 -> 0
D36: Forgalom/átvitel: | E36: =SUM(E4:E35) -> 0 | F36: =SUM(F4:F35) -> 0
D37: Kezdőpénzkészlet | E37: =október!F38 -> 0
D38: Záró pénzkészlet | F38: =SUM(E36-F36+E37) -> 0
D39: Összesen | E39: =SUM(E36:E37) -> 0 | F39: =SUM(F36,F38) -> 0
E43: pénztáros

Sheet december
B1: =január!B1 -> … KFT. | G1: 2018 /12 . hó
B3: dátum | C3: bizonylat sorszáma | D3: Szöveg | E3: Bevétel | F3: Kiadás | G3: Egyenleg
A4: 1. | G4: =november!F38+december!E4-december!F4 -> 0
A5: 2. | G5: =G4+E5-F5 -> 0
A6: 3. | G6: =G5+E6-F6 -> 0
A7: 4. | G7: =G6+E7-F7 -> 0
A8: 5. | G8: =G7+E8-F8 -> 0
A9: 6. | G9: =G8+E9-F9 -> 0
A10: 7. | G10: =G9+E10-F10 -> 0
A11: 8. | G11: =G10+E11-F11 -> 0
A12: 9. | G12: =G11+E12-F12 -> 0
A13: 10. | G13: =G12+E13-F13 -> 0
A14: 11. | G14: =G13+E14-F14 -> 0
A15: 12. | G15: =G14+E15-F15 -> 0
A16: 13. | G16: =G15+E16-F16 -> 0
... A35: 32. | G35: =G34+E35-F35 -> 0
D36: Forgalom/átvitel: | E36: =SUM(E4:E35) -> 0 | F36: =SUM(F4:F35) -> 0
D37: Kezdőpénzkészlet | E37: =november!F38 -> 0
D38: Záró pénzkészlet | F38: =SUM(E36-F36+E37) -> 0
D39: Összesen | E39: =SUM(E36:E37) -> 0 | F39: =SUM(F36,F38) -> 0
E43: pénztáros
